BEGIN:VCALENDAR
VERSION:2.0
PRODID:-//hacksw/handcal//NONSGML v1.0//EN
CALSCALE:GREGORIAN
BEGIN:VEVENT
LOCATION:7021 Southside Dr\,Louisville\, KY 40214
DESCRIPTION:Civil Design Inc. and Civil Giving (our charity foundation) are excited to announce our 6th Annual…
DTSTART:20260129T180000
DTEND:20260129T220000
SUMMARY:Civil Design's Bowling for Hope 2026 - Benefitting Maryhurst!
URL;VALUE=URI:https://www.maryhurst.org/events/civil-designs-bowling-hope-2026-benefitting-maryhurst?date=2026-01-29
DTSTAMP:20260420T162607
UID:69e68bdf2b666
END:VEVENT
END:VCALENDAR